BEGIN:VCALENDAR
VERSION:2.0
PRODID:-//Musikverein Binswangen e.V. - ECPv6.15.17.1//NONSGML v1.0//EN
CALSCALE:GREGORIAN
METHOD:PUBLISH
X-WR-CALNAME:Musikverein Binswangen e.V.
X-ORIGINAL-URL:https://mv-binswangen.de
X-WR-CALDESC:Veranstaltungen für Musikverein Binswangen e.V.
REFRESH-INTERVAL;VALUE=DURATION:PT1H
X-Robots-Tag:noindex
X-PUBLISHED-TTL:PT1H
BEGIN:VTIMEZONE
TZID:Europe/Berlin
BEGIN:DAYLIGHT
TZOFFSETFROM:+0100
TZOFFSETTO:+0200
TZNAME:CEST
DTSTART:20250330T010000
END:DAYLIGHT
BEGIN:STANDARD
TZOFFSETFROM:+0200
TZOFFSETTO:+0100
TZNAME:CET
DTSTART:20251026T010000
END:STANDARD
BEGIN:DAYLIGHT
TZOFFSETFROM:+0100
TZOFFSETTO:+0200
TZNAME:CEST
DTSTART:20260329T010000
END:DAYLIGHT
BEGIN:STANDARD
TZOFFSETFROM:+0200
TZOFFSETTO:+0100
TZNAME:CET
DTSTART:20261025T010000
END:STANDARD
BEGIN:DAYLIGHT
TZOFFSETFROM:+0100
TZOFFSETTO:+0200
TZNAME:CEST
DTSTART:20270328T010000
END:DAYLIGHT
BEGIN:STANDARD
TZOFFSETFROM:+0200
TZOFFSETTO:+0100
TZNAME:CET
DTSTART:20271031T010000
END:STANDARD
END:VTIMEZONE
BEGIN:VEVENT
DTSTART;TZID=Europe/Berlin:20260621T143000
DTEND;TZID=Europe/Berlin:20260621T170000
DTSTAMP:20260421T175517
CREATED:20251127T185032Z
LAST-MODIFIED:20260421T023534Z
UID:11651-1782052200-1782061200@mv-binswangen.de
SUMMARY:Sommerfest St. Vinzenz Neckarsulm (Mühlwiesen Musikanten)
DESCRIPTION:Auftritt
URL:https://mv-binswangen.de/veranstaltung/sommerfest-st-vinzenz-neckarsulm-muehlwiesen-musikanten-2/
LOCATION:Spitalstraße 14/2\, 74172 Neckarsulm\, Deutschland
CATEGORIES:Mühlwiesen Musikanten
END:VEVENT
BEGIN:VEVENT
DTSTART;TZID=Europe/Berlin:20260628T163000
DTEND;TZID=Europe/Berlin:20260628T183000
DTSTAMP:20260421T175517
CREATED:20251127T185032Z
LAST-MODIFIED:20260421T023534Z
UID:11653-1782664200-1782671400@mv-binswangen.de
SUMMARY:Bockbierfest Duttenberg (Mühlwiesen Musikanten)
DESCRIPTION:Auftritt
URL:https://mv-binswangen.de/veranstaltung/bockbierfest-duttenberg-muehlwiesen-musikanten/
LOCATION:74177 Bad Friedrichshall-Duttenberg\, Deutschland
CATEGORIES:Mühlwiesen Musikanten
END:VEVENT
END:VCALENDAR