BEGIN:VCALENDAR
VERSION:2.0
PRODID:-//Musikverein Binswangen e.V. - ECPv6.15.17.1//NONSGML v1.0//EN
CALSCALE:GREGORIAN
METHOD:PUBLISH
X-ORIGINAL-URL:https://mv-binswangen.de
X-WR-CALDESC:Veranstaltungen für Musikverein Binswangen e.V.
REFRESH-INTERVAL;VALUE=DURATION:PT1H
X-Robots-Tag:noindex
X-PUBLISHED-TTL:PT1H
BEGIN:VTIMEZONE
TZID:Europe/Berlin
BEGIN:DAYLIGHT
TZOFFSETFROM:+0100
TZOFFSETTO:+0200
TZNAME:CEST
DTSTART:20250330T010000
END:DAYLIGHT
BEGIN:STANDARD
TZOFFSETFROM:+0200
TZOFFSETTO:+0100
TZNAME:CET
DTSTART:20251026T010000
END:STANDARD
BEGIN:DAYLIGHT
TZOFFSETFROM:+0100
TZOFFSETTO:+0200
TZNAME:CEST
DTSTART:20260329T010000
END:DAYLIGHT
BEGIN:STANDARD
TZOFFSETFROM:+0200
TZOFFSETTO:+0100
TZNAME:CET
DTSTART:20261025T010000
END:STANDARD
BEGIN:DAYLIGHT
TZOFFSETFROM:+0100
TZOFFSETTO:+0200
TZNAME:CEST
DTSTART:20270328T010000
END:DAYLIGHT
BEGIN:STANDARD
TZOFFSETFROM:+0200
TZOFFSETTO:+0100
TZNAME:CET
DTSTART:20271031T010000
END:STANDARD
END:VTIMEZONE
BEGIN:VEVENT
DTSTART;TZID=Europe/Berlin:20260214T173000
DTEND;TZID=Europe/Berlin:20260215T010000
DTSTAMP:20260421T175552
CREATED:20251016T220533Z
LAST-MODIFIED:20251211T220532Z
UID:11537-1771090200-1771117200@mv-binswangen.de
SUMMARY:Prunktsitzung CCBB (Musikverein Binswangen)
DESCRIPTION:Auftritt – Musikalische Umrahmung der Prunksitzung\, Achtung kleine Besetzung
URL:https://mv-binswangen.de/veranstaltung/prunktsitzung-ccbb-musikverein-binswangen/
LOCATION:Talstraße 21\, 74235 Erlenbach\, Deutschland
CATEGORIES:Aktives Orchester
END:VEVENT
BEGIN:VEVENT
DTSTART;TZID=Europe/Berlin:20260216T124500
DTEND;TZID=Europe/Berlin:20260216T190000
DTSTAMP:20260421T175552
CREATED:20251016T220533Z
LAST-MODIFIED:20251211T220532Z
UID:11539-1771245900-1771268400@mv-binswangen.de
SUMMARY:Rosenmontagsumzug Erlenbach (Musikverein Binswangen)
DESCRIPTION:Auftritt – Teilnahme am Rosenmontagsumzug des CCBB\, anschließend spielen auf dem Marktplatz\, Treffpunkt Höhe ehemaliges Weingut Helmle
URL:https://mv-binswangen.de/veranstaltung/rosenmontagsumzug-erlenbach-musikverein-binswangen/
LOCATION:Hauptstraße 101\, 74235 Erlenbach\, Deutschland
CATEGORIES:Aktives Orchester
END:VEVENT
BEGIN:VEVENT
DTSTART;TZID=Europe/Berlin:20260226T100000
DTEND;TZID=Europe/Berlin:20260226T120000
DTSTAMP:20260421T175552
CREATED:20260128T190535Z
LAST-MODIFIED:20260226T065030Z
UID:11759-1772100000-1772107200@mv-binswangen.de
SUMMARY:Eröffnung Schemelsbergtunnel (Mühlwiesen Musikanten)
DESCRIPTION:Auftritt – Gemeinsamer Auftritt mit den Aktiven des MVB
URL:https://mv-binswangen.de/veranstaltung/eroeffnung-schemelsbergtunnel-muehlwiesen-musikanten/
LOCATION:Tunnel Schemmelsberg\, 74235 Erlenbach\, Deutschland
CATEGORIES:Mühlwiesen Musikanten
END:VEVENT
END:VCALENDAR