BEGIN:VCALENDAR
VERSION:2.0
PRODID:-//Musikverein Binswangen e.V. - ECPv6.15.17.1//NONSGML v1.0//EN
CALSCALE:GREGORIAN
METHOD:PUBLISH
X-ORIGINAL-URL:https://mv-binswangen.de
X-WR-CALDESC:Veranstaltungen für Musikverein Binswangen e.V.
REFRESH-INTERVAL;VALUE=DURATION:PT1H
X-Robots-Tag:noindex
X-PUBLISHED-TTL:PT1H
BEGIN:VTIMEZONE
TZID:Europe/Berlin
BEGIN:DAYLIGHT
TZOFFSETFROM:+0100
TZOFFSETTO:+0200
TZNAME:CEST
DTSTART:20240331T010000
END:DAYLIGHT
BEGIN:STANDARD
TZOFFSETFROM:+0200
TZOFFSETTO:+0100
TZNAME:CET
DTSTART:20241027T010000
END:STANDARD
BEGIN:DAYLIGHT
TZOFFSETFROM:+0100
TZOFFSETTO:+0200
TZNAME:CEST
DTSTART:20250330T010000
END:DAYLIGHT
BEGIN:STANDARD
TZOFFSETFROM:+0200
TZOFFSETTO:+0100
TZNAME:CET
DTSTART:20251026T010000
END:STANDARD
BEGIN:DAYLIGHT
TZOFFSETFROM:+0100
TZOFFSETTO:+0200
TZNAME:CEST
DTSTART:20260329T010000
END:DAYLIGHT
BEGIN:STANDARD
TZOFFSETFROM:+0200
TZOFFSETTO:+0100
TZNAME:CET
DTSTART:20261025T010000
END:STANDARD
END:VTIMEZONE
BEGIN:VEVENT
DTSTART;TZID=Europe/Berlin:20250810T113000
DTEND;TZID=Europe/Berlin:20250810T140000
DTSTAMP:20260423T150714
CREATED:20250317T193208Z
LAST-MODIFIED:20250809T130530Z
UID:11021-1754825400-1754834400@mv-binswangen.de
SUMMARY:Musik- und Weinfest (Musikverein Binswangen)
DESCRIPTION:Auftritt – Umrahmung des Weinfestes des MV Löwenstein.\nTreffpunkt Aufbau 10.30 Uhr – bitte mindestens ein Musiker aus jedem Register. Sonst Treffpunkt um spätestens 11.00 Uhr vor Ort.\nAnzugordnung – Polo\, blaue Jeans + schwarze Schuhe (bei heißen Temperaturen Änderungen Vorbehalten)
URL:https://mv-binswangen.de/veranstaltung/musik-und-weinfest-musikverein-binswangen/
LOCATION:B39\, 74245 Löwenstein\, Deutschland
CATEGORIES:Aktives Orchester
END:VEVENT
BEGIN:VEVENT
DTSTART;TZID=Europe/Berlin:20250818T150000
DTEND;TZID=Europe/Berlin:20250818T180000
DTSTAMP:20260423T150714
CREATED:20250317T193319Z
LAST-MODIFIED:20250818T052033Z
UID:11049-1755529200-1755540000@mv-binswangen.de
SUMMARY:Weingut Berthold (Mühlwiesen Musikanten)
DESCRIPTION:Auftritt
URL:https://mv-binswangen.de/veranstaltung/weingut-berthold-muehlwiesen-musikanten/
LOCATION:Reutweg 4\, 74172 Neckarsulm\, Deutschland
CATEGORIES:Mühlwiesen Musikanten
END:VEVENT
BEGIN:VEVENT
DTSTART;TZID=Europe/Berlin:20250824T110000
DTEND;TZID=Europe/Berlin:20250824T133000
DTSTAMP:20260423T150714
CREATED:20250317T193319Z
LAST-MODIFIED:20250823T220535Z
UID:11050-1756033200-1756042200@mv-binswangen.de
SUMMARY:Erlenbacher Weinfest (Mühlwiesen Musikanten)
DESCRIPTION:Auftritt
URL:https://mv-binswangen.de/veranstaltung/erlenbacher-weinfest-muehlwiesen-musikanten/
LOCATION:Klingenstraße 2\, 74235 Erlenbach\, Deutschland
CATEGORIES:Mühlwiesen Musikanten
END:VEVENT
BEGIN:VEVENT
DTSTART;TZID=Europe/Berlin:20250825T190000
DTEND;TZID=Europe/Berlin:20250825T230000
DTSTAMP:20260423T150714
CREATED:20250317T193208Z
LAST-MODIFIED:20250825T200919Z
UID:11025-1756148400-1756162800@mv-binswangen.de
SUMMARY:Erlenbacher Weinfest (Musikverein Binswangen)
DESCRIPTION:Auftritt
URL:https://mv-binswangen.de/veranstaltung/erlenbacher-weinfest-musikverein-binswangen/
LOCATION:Klingenstraße 2\, 74235 Erlenbach\, Deutschland
CATEGORIES:Aktives Orchester
END:VEVENT
END:VCALENDAR