BEGIN:VCALENDAR
VERSION:2.0
PRODID:-//Musikverein Binswangen e.V. - ECPv6.15.17.1//NONSGML v1.0//EN
CALSCALE:GREGORIAN
METHOD:PUBLISH
X-WR-CALNAME:Musikverein Binswangen e.V.
X-ORIGINAL-URL:https://mv-binswangen.de
X-WR-CALDESC:Veranstaltungen für Musikverein Binswangen e.V.
REFRESH-INTERVAL;VALUE=DURATION:PT1H
X-Robots-Tag:noindex
X-PUBLISHED-TTL:PT1H
BEGIN:VTIMEZONE
TZID:Europe/Berlin
BEGIN:DAYLIGHT
TZOFFSETFROM:+0100
TZOFFSETTO:+0200
TZNAME:CEST
DTSTART:20250330T010000
END:DAYLIGHT
BEGIN:STANDARD
TZOFFSETFROM:+0200
TZOFFSETTO:+0100
TZNAME:CET
DTSTART:20251026T010000
END:STANDARD
BEGIN:DAYLIGHT
TZOFFSETFROM:+0100
TZOFFSETTO:+0200
TZNAME:CEST
DTSTART:20260329T010000
END:DAYLIGHT
BEGIN:STANDARD
TZOFFSETFROM:+0200
TZOFFSETTO:+0100
TZNAME:CET
DTSTART:20261025T010000
END:STANDARD
BEGIN:DAYLIGHT
TZOFFSETFROM:+0100
TZOFFSETTO:+0200
TZNAME:CEST
DTSTART:20270328T010000
END:DAYLIGHT
BEGIN:STANDARD
TZOFFSETFROM:+0200
TZOFFSETTO:+0100
TZNAME:CET
DTSTART:20271031T010000
END:STANDARD
END:VTIMEZONE
BEGIN:VEVENT
DTSTART;TZID=Europe/Berlin:20260430T180000
DTEND;TZID=Europe/Berlin:20260430T200000
DTSTAMP:20260421T131424
CREATED:20260321T185035Z
LAST-MODIFIED:20260421T023534Z
UID:11841-1777572000-1777579200@mv-binswangen.de
SUMMARY:Eberstadt Maibaum aufstellen (Mühlwiesen Musikanten)
DESCRIPTION:Auftritt
URL:https://mv-binswangen.de/veranstaltung/eberstadt-maibaum-aufstellen-muehlwiesen-musikanten/
LOCATION:74246 Eberstadt\, Baden-Württemberg\, Deutschland
CATEGORIES:Mühlwiesen Musikanten
END:VEVENT
BEGIN:VEVENT
DTSTART;TZID=Europe/Berlin:20260503T123000
DTEND;TZID=Europe/Berlin:20260503T153000
DTSTAMP:20260421T131424
CREATED:20260123T150534Z
LAST-MODIFIED:20260421T023534Z
UID:11745-1777811400-1777822200@mv-binswangen.de
SUMMARY:Weingut Echle (Mühlwiesen Musikanten)
DESCRIPTION:Auftritt
URL:https://mv-binswangen.de/veranstaltung/weingut-echle-muehlwiesen-musikanten/
LOCATION:Marsaner Str. 18\, 74336 Brackenheim\, Deutschland
CATEGORIES:Mühlwiesen Musikanten
END:VEVENT
BEGIN:VEVENT
DTSTART;VALUE=DATE:20260510
DTEND;VALUE=DATE:20260512
DTSTAMP:20260421T131424
CREATED:20251209T220534Z
LAST-MODIFIED:20251211T220532Z
UID:11676-1778378400-1778464799@mv-binswangen.de
SUMMARY:Anfrage ob Auftritt möglich (Musikverein Binswangen)
DESCRIPTION:Auftritt – Bitte mmit anwesend eintragen\, wer an diesem Tag verfügbar wäre\, um einen Auftritt zu gestalten. Zeit und Ort folgen
URL:https://mv-binswangen.de/veranstaltung/anfrage-ob-auftritt-moeglich-musikverein-binswangen/
LOCATION:unbekannt
CATEGORIES:Aktives Orchester
END:VEVENT
BEGIN:VEVENT
DTSTART;TZID=Europe/Berlin:20260514T090000
DTEND;TZID=Europe/Berlin:20260514T113000
DTSTAMP:20260421T131424
CREATED:20251016T220533Z
LAST-MODIFIED:20251211T220532Z
UID:11541-1778749200-1778758200@mv-binswangen.de
SUMMARY:Prozession Christi Himmelfahrt mit kath. Kirche (Musikverein Binswangen)
DESCRIPTION:Auftritt – Begleitung der Flurprozession
URL:https://mv-binswangen.de/veranstaltung/prozession-christi-himmelfahrt-mit-kath-kirche-musikverein-binswangen/
LOCATION:Treffpunkt noch unbekannt
CATEGORIES:Aktives Orchester
END:VEVENT
BEGIN:VEVENT
DTSTART;TZID=Europe/Berlin:20260621T143000
DTEND;TZID=Europe/Berlin:20260621T170000
DTSTAMP:20260421T131424
CREATED:20251127T185032Z
LAST-MODIFIED:20260421T023534Z
UID:11651-1782052200-1782061200@mv-binswangen.de
SUMMARY:Sommerfest St. Vinzenz Neckarsulm (Mühlwiesen Musikanten)
DESCRIPTION:Auftritt
URL:https://mv-binswangen.de/veranstaltung/sommerfest-st-vinzenz-neckarsulm-muehlwiesen-musikanten-2/
LOCATION:Spitalstraße 14/2\, 74172 Neckarsulm\, Deutschland
CATEGORIES:Mühlwiesen Musikanten
END:VEVENT
BEGIN:VEVENT
DTSTART;TZID=Europe/Berlin:20260628T163000
DTEND;TZID=Europe/Berlin:20260628T183000
DTSTAMP:20260421T131424
CREATED:20251127T185032Z
LAST-MODIFIED:20260421T023534Z
UID:11653-1782664200-1782671400@mv-binswangen.de
SUMMARY:Bockbierfest Duttenberg (Mühlwiesen Musikanten)
DESCRIPTION:Auftritt
URL:https://mv-binswangen.de/veranstaltung/bockbierfest-duttenberg-muehlwiesen-musikanten/
LOCATION:74177 Bad Friedrichshall-Duttenberg\, Deutschland
CATEGORIES:Mühlwiesen Musikanten
END:VEVENT
BEGIN:VEVENT
DTSTART;TZID=Europe/Berlin:20260809T113000
DTEND;TZID=Europe/Berlin:20260809T140000
DTSTAMP:20260421T131424
CREATED:20251016T220533Z
LAST-MODIFIED:20251211T220532Z
UID:11543-1786275000-1786284000@mv-binswangen.de
SUMMARY:Musik- & Weinfest Löwenstein (Musikverein Binswangen)
DESCRIPTION:Auftritt – Auftritt auf dem Fest des MVL
URL:https://mv-binswangen.de/veranstaltung/musik-weinfest-loewenstein-musikverein-binswangen/
LOCATION:Reisacher Str. 5\, 74245 Löwenstein\, Deutschland
CATEGORIES:Aktives Orchester
END:VEVENT
BEGIN:VEVENT
DTSTART;TZID=Europe/Berlin:20260817T150000
DTEND;TZID=Europe/Berlin:20260817T180000
DTSTAMP:20260421T131424
CREATED:20260123T150534Z
LAST-MODIFIED:20260421T023534Z
UID:11746-1786978800-1786989600@mv-binswangen.de
SUMMARY:Hoffest Weingut Berthold (Mühlwiesen Musikanten)
DESCRIPTION:Auftritt
URL:https://mv-binswangen.de/veranstaltung/hoffest-weingut-berthold-muehlwiesen-musikanten/
LOCATION:Reutweg 4\, 74172 Neckarsulm\, Deutschland
CATEGORIES:Mühlwiesen Musikanten
END:VEVENT
BEGIN:VEVENT
DTSTART;TZID=Europe/Berlin:20260823T110000
DTEND;TZID=Europe/Berlin:20260823T120000
DTSTAMP:20260421T131424
CREATED:20260123T150535Z
LAST-MODIFIED:20260421T023534Z
UID:11747-1787482800-1787486400@mv-binswangen.de
SUMMARY:Erlenbacher Weinfest (Mühlwiesen Musikanten)
DESCRIPTION:Auftritt
URL:https://mv-binswangen.de/veranstaltung/erlenbacher-weinfest-muehlwiesen-musikanten-2/
CATEGORIES:Mühlwiesen Musikanten
END:VEVENT
BEGIN:VEVENT
DTSTART;VALUE=DATE:20261031
DTEND;VALUE=DATE:20261102
DTSTAMP:20260421T131424
CREATED:20251016T220534Z
LAST-MODIFIED:20251211T220532Z
UID:11545-1793408400-1793494799@mv-binswangen.de
SUMMARY:u.V. Laternenumzug Happenbach (Musikverein Binswangen)
DESCRIPTION:Auftritt – Begleitung des Laternenumzugs in Happenbach
URL:https://mv-binswangen.de/veranstaltung/u-v-laternenumzug-happenbach-musikverein-binswangen/
LOCATION:Hauptstraße 37\, 74232 Abstatt\, Deutschland
CATEGORIES:Aktives Orchester
END:VEVENT
BEGIN:VEVENT
DTSTART;TZID=Europe/Berlin:20261101T130000
DTEND;TZID=Europe/Berlin:20261101T150000
DTSTAMP:20260421T131424
CREATED:20251016T220534Z
LAST-MODIFIED:20251211T220532Z
UID:11546-1793538000-1793545200@mv-binswangen.de
SUMMARY:Gräberbesuch Allerheiligen (Musikverein Binswangen)
DESCRIPTION:Auftritt – Begleitung des Gräberbesuchs
URL:https://mv-binswangen.de/veranstaltung/graeberbesuch-allerheiligen-musikverein-binswangen/
LOCATION:Hauptstraße 44/1\, 74235 Erlenbach\, Deutschland
CATEGORIES:Aktives Orchester
END:VEVENT
BEGIN:VEVENT
DTSTART;TZID=Europe/Berlin:20261108T180000
DTEND;TZID=Europe/Berlin:20261108T220000
DTSTAMP:20260421T131424
CREATED:20251016T220545Z
LAST-MODIFIED:20251211T220532Z
UID:11547-1794160800-1794175200@mv-binswangen.de
SUMMARY:Jahreskonzert 2026 (Musikverein Binswangen)
DESCRIPTION:Auftritt – Jahreskonzert 2026\, näheres folgt
URL:https://mv-binswangen.de/veranstaltung/jahreskonzert-2026-musikverein-binswangen/
LOCATION:Talstraße 21\, 74235 Erlenbach\, Deutschland
CATEGORIES:Aktives Orchester
END:VEVENT
BEGIN:VEVENT
DTSTART;VALUE=DATE:20261213
DTEND;VALUE=DATE:20261215
DTSTAMP:20260421T131424
CREATED:20251016T220545Z
LAST-MODIFIED:20251211T220544Z
UID:11549-1797123600-1797209999@mv-binswangen.de
SUMMARY:u.V. Swinging Christmas (Musikverein Binswangen)
DESCRIPTION:Auftritt – Auftritt Swinging Christmas im Besen Schönbrunn
URL:https://mv-binswangen.de/veranstaltung/u-v-swinging-christmas-musikverein-binswangen/
LOCATION:Im Petersrain 1\, 74235 Erlenbach\, Deutschland
CATEGORIES:Aktives Orchester
END:VEVENT
END:VCALENDAR