BEGIN:VCALENDAR
VERSION:2.0
PRODID:-//Musikverein Binswangen e.V. - ECPv6.15.17.1//NONSGML v1.0//EN
CALSCALE:GREGORIAN
METHOD:PUBLISH
X-ORIGINAL-URL:https://mv-binswangen.de
X-WR-CALDESC:Veranstaltungen für Musikverein Binswangen e.V.
REFRESH-INTERVAL;VALUE=DURATION:PT1H
X-Robots-Tag:noindex
X-PUBLISHED-TTL:PT1H
BEGIN:VTIMEZONE
TZID:Europe/Berlin
BEGIN:DAYLIGHT
TZOFFSETFROM:+0100
TZOFFSETTO:+0200
TZNAME:CEST
DTSTART:20240331T010000
END:DAYLIGHT
BEGIN:STANDARD
TZOFFSETFROM:+0200
TZOFFSETTO:+0100
TZNAME:CET
DTSTART:20241027T010000
END:STANDARD
BEGIN:DAYLIGHT
TZOFFSETFROM:+0100
TZOFFSETTO:+0200
TZNAME:CEST
DTSTART:20250330T010000
END:DAYLIGHT
BEGIN:STANDARD
TZOFFSETFROM:+0200
TZOFFSETTO:+0100
TZNAME:CET
DTSTART:20251026T010000
END:STANDARD
BEGIN:DAYLIGHT
TZOFFSETFROM:+0100
TZOFFSETTO:+0200
TZNAME:CEST
DTSTART:20260329T010000
END:DAYLIGHT
BEGIN:STANDARD
TZOFFSETFROM:+0200
TZOFFSETTO:+0100
TZNAME:CET
DTSTART:20261025T010000
END:STANDARD
BEGIN:DAYLIGHT
TZOFFSETFROM:+0100
TZOFFSETTO:+0200
TZNAME:CEST
DTSTART:20270328T010000
END:DAYLIGHT
BEGIN:STANDARD
TZOFFSETFROM:+0200
TZOFFSETTO:+0100
TZNAME:CET
DTSTART:20271031T010000
END:STANDARD
END:VTIMEZONE
BEGIN:VEVENT
DTSTART;TZID=Europe/Berlin:20260419T153000
DTEND;TZID=Europe/Berlin:20260419T173000
DTSTAMP:20260421T143218
CREATED:20260123T150534Z
LAST-MODIFIED:20260419T023720Z
UID:11744-1776612600-1776619800@mv-binswangen.de
SUMMARY:Seniorennachmittag Sulmtalhalle Erlenbach (Mühlwiesen Musikanten)
DESCRIPTION:Auftritt
URL:https://mv-binswangen.de/veranstaltung/seniorennachmittag-sulmtalhalle-erlenbach-muehlwiesen-musikanten/
LOCATION:Talstraße 21\, 74235 Erlenbach\, Deutschland
CATEGORIES:Mühlwiesen Musikanten
END:VEVENT
BEGIN:VEVENT
DTSTART;TZID=Europe/Berlin:20260327T140000
DTEND;TZID=Europe/Berlin:20260327T153000
DTSTAMP:20260421T143218
CREATED:20260318T210827Z
LAST-MODIFIED:20260327T142028Z
UID:11836-1774620000-1774625400@mv-binswangen.de
SUMMARY:Trauerfeier Ella Schropp (Mühlwiesen Musikanten)
DESCRIPTION:Auftritt – Umrahmung der Trauerfeier auf dem Friedhof in Binswangen
URL:https://mv-binswangen.de/veranstaltung/trauerfeier-ella-schropp-muehlwiesen-musikanten/
LOCATION:Hauptstraße 44\, 74235 Erlenbach\, Deutschland
CATEGORIES:Mühlwiesen Musikanten
END:VEVENT
BEGIN:VEVENT
DTSTART;TZID=Europe/Berlin:20260315T104500
DTEND;TZID=Europe/Berlin:20260315T114500
DTSTAMP:20260421T143218
CREATED:20251127T185032Z
LAST-MODIFIED:20260315T005056Z
UID:11649-1773571500-1773575100@mv-binswangen.de
SUMMARY:Kurkonzert Bad Wimpfen (Mühlwiesen Musikanten)
DESCRIPTION:Auftritt
URL:https://mv-binswangen.de/veranstaltung/kurkonzert-bad-wimpfen-muehlwiesen-musikanten-2/
LOCATION:b. d. alten Saline 2\, 74206 Bad Wimpfen\, Deutschland
CATEGORIES:Mühlwiesen Musikanten
END:VEVENT
BEGIN:VEVENT
DTSTART;TZID=Europe/Berlin:20260301T103000
DTEND;TZID=Europe/Berlin:20260301T113000
DTSTAMP:20260421T143218
CREATED:20260123T150534Z
LAST-MODIFIED:20260228T165032Z
UID:11743-1772361000-1772364600@mv-binswangen.de
SUMMARY:St. Vinzenz Nekarsulm (Mühlwiesen Musikanten)
DESCRIPTION:Auftritt
URL:https://mv-binswangen.de/veranstaltung/st-vinzenz-nekarsulm-muehlwiesen-musikanten/
LOCATION:Spitalstraße 14/2\, 74172 Neckarsulm\, Deutschland
CATEGORIES:Mühlwiesen Musikanten
END:VEVENT
BEGIN:VEVENT
DTSTART;TZID=Europe/Berlin:20260226T100000
DTEND;TZID=Europe/Berlin:20260226T120000
DTSTAMP:20260421T143218
CREATED:20260128T190535Z
LAST-MODIFIED:20260226T065030Z
UID:11759-1772100000-1772107200@mv-binswangen.de
SUMMARY:Eröffnung Schemelsbergtunnel (Mühlwiesen Musikanten)
DESCRIPTION:Auftritt – Gemeinsamer Auftritt mit den Aktiven des MVB
URL:https://mv-binswangen.de/veranstaltung/eroeffnung-schemelsbergtunnel-muehlwiesen-musikanten/
LOCATION:Tunnel Schemmelsberg\, 74235 Erlenbach\, Deutschland
CATEGORIES:Mühlwiesen Musikanten
END:VEVENT
BEGIN:VEVENT
DTSTART;TZID=Europe/Berlin:20260216T124500
DTEND;TZID=Europe/Berlin:20260216T190000
DTSTAMP:20260421T143218
CREATED:20251016T220533Z
LAST-MODIFIED:20251211T220532Z
UID:11539-1771245900-1771268400@mv-binswangen.de
SUMMARY:Rosenmontagsumzug Erlenbach (Musikverein Binswangen)
DESCRIPTION:Auftritt – Teilnahme am Rosenmontagsumzug des CCBB\, anschließend spielen auf dem Marktplatz\, Treffpunkt Höhe ehemaliges Weingut Helmle
URL:https://mv-binswangen.de/veranstaltung/rosenmontagsumzug-erlenbach-musikverein-binswangen/
LOCATION:Hauptstraße 101\, 74235 Erlenbach\, Deutschland
CATEGORIES:Aktives Orchester
END:VEVENT
BEGIN:VEVENT
DTSTART;TZID=Europe/Berlin:20260214T173000
DTEND;TZID=Europe/Berlin:20260215T010000
DTSTAMP:20260421T143218
CREATED:20251016T220533Z
LAST-MODIFIED:20251211T220532Z
UID:11537-1771090200-1771117200@mv-binswangen.de
SUMMARY:Prunktsitzung CCBB (Musikverein Binswangen)
DESCRIPTION:Auftritt – Musikalische Umrahmung der Prunksitzung\, Achtung kleine Besetzung
URL:https://mv-binswangen.de/veranstaltung/prunktsitzung-ccbb-musikverein-binswangen/
LOCATION:Talstraße 21\, 74235 Erlenbach\, Deutschland
CATEGORIES:Aktives Orchester
END:VEVENT
BEGIN:VEVENT
DTSTART;TZID=Europe/Berlin:20260131T133000
DTEND;TZID=Europe/Berlin:20260131T170000
DTSTAMP:20260421T143218
CREATED:20251016T220533Z
LAST-MODIFIED:20251211T220532Z
UID:11536-1769866200-1769878800@mv-binswangen.de
SUMMARY:Fasching Lebenswerkstatt Böckingen (Musikverein Binswangen)
DESCRIPTION:Auftritt – Faschingsfeier der Lebenswerkstatt gemeinsam mit dem CCBB
URL:https://mv-binswangen.de/veranstaltung/fasching-lebenswerkstatt-boeckingen-musikverein-binswangen/
LOCATION:Längelterstraße 188\, 74080 Heilbronn\, Deutschland
CATEGORIES:Aktives Orchester
END:VEVENT
BEGIN:VEVENT
DTSTART;TZID=Europe/Berlin:20251220T190000
DTEND;TZID=Europe/Berlin:20251220T194500
DTSTAMP:20260421T143218
CREATED:20251028T220534Z
LAST-MODIFIED:20251211T220532Z
UID:11588-1766257200-1766259900@mv-binswangen.de
SUMMARY:Weihnachtsmarkt Blechbläserbesetzung (Musikverein Binswangen)
DESCRIPTION:Auftritt – Spielen auf dem Weihnachtsmarkt wie letztes Jahr
URL:https://mv-binswangen.de/veranstaltung/weihnachtsmarkt-blechblaeserbesetzung-musikverein-binswangen/
LOCATION:Klingenstraße 2\, 74235 Erlenbach\, Deutschland
CATEGORIES:Aktives Orchester
END:VEVENT
BEGIN:VEVENT
DTSTART;TZID=Europe/Berlin:20251203T111500
DTEND;TZID=Europe/Berlin:20251203T124500
DTSTAMP:20260421T143218
CREATED:20251122T220534Z
LAST-MODIFIED:20251202T113544Z
UID:11627-1764760500-1764765900@mv-binswangen.de
SUMMARY:Beerdigung Elfriede Krämer (Musikverein Binswangen)
DESCRIPTION:Auftritt – Elfriede Krämer (die Mutter von Gerd) ist verstorben. Beerdigung ist am Mittwoch\, 03.12. Auf dem Friedhof in Binswangen. Wir treffen uns um 11:15 Uhr spielbereit.
URL:https://mv-binswangen.de/veranstaltung/beerdigung-elfriede-kraemer-musikverein-binswangen/
LOCATION:Hauptstraße 44/1\, 74235 Erlenbach\, Deutschland
CATEGORIES:Aktives Orchester
END:VEVENT
BEGIN:VEVENT
DTSTART;TZID=Europe/Berlin:20251203T111500
DTEND;TZID=Europe/Berlin:20251203T121500
DTSTAMP:20260421T143218
CREATED:20251121T153528Z
LAST-MODIFIED:20251202T135134Z
UID:11622-1764760500-1764764100@mv-binswangen.de
SUMMARY:Beerdigung Elfriede Krämer (Mühlwiesen Musikanten)
DESCRIPTION:Auftritt – Elfriede Krämer – unser Ehrenmitglied (die Mutter von Gerd Krämer) ist gestern Früh verstorben.\nDie Beerdigung ist am Mittwoch\, 03.12.2025 auf dem Friedhof in Binswangen.\nWir treffen ist um 11:15 Uhr oben auf dem Friedhof\n(zur Info: die Trauerfeier findet um 10:30 Uhr im Käpelle statt. Geleitet wird diese von Pfarrer\nWalter Ruoff.)
URL:https://mv-binswangen.de/veranstaltung/beerdigung-elfriede-kraemer-muehlwiesen-musikanten/
LOCATION:Erlenbacher Weg 1/3\, Binswangen\, 74235 Erlenbach\, Deutschland
CATEGORIES:Mühlwiesen Musikanten
END:VEVENT
BEGIN:VEVENT
DTSTART;TZID=Europe/Berlin:20251123T180000
DTEND;TZID=Europe/Berlin:20251123T200000
DTSTAMP:20260421T143218
CREATED:20250317T193208Z
LAST-MODIFIED:20251122T225028Z
UID:11030-1763920800-1763928000@mv-binswangen.de
SUMMARY:Jahreskonzert 2025 (Musikverein Binswangen)
DESCRIPTION:Auftritt
URL:https://mv-binswangen.de/veranstaltung/jahreskonzert-2025-musikverein-binswangen/
CATEGORIES:Aktives Orchester
END:VEVENT
BEGIN:VEVENT
DTSTART;TZID=Europe/Berlin:20251109T104500
DTEND;TZID=Europe/Berlin:20251109T114500
DTSTAMP:20260421T143218
CREATED:20250317T193319Z
LAST-MODIFIED:20251108T160530Z
UID:11051-1762685100-1762688700@mv-binswangen.de
SUMMARY:Kurkonzert Bad Wimpfen (Mühlwiesen Musikanten)
DESCRIPTION:Auftritt
URL:https://mv-binswangen.de/veranstaltung/kurkonzert-bad-wimpfen-muehlwiesen-musikanten/
CATEGORIES:Mühlwiesen Musikanten
END:VEVENT
BEGIN:VEVENT
DTSTART;TZID=Europe/Berlin:20251107T181500
DTEND;TZID=Europe/Berlin:20251107T194500
DTSTAMP:20260421T143218
CREATED:20250317T193208Z
LAST-MODIFIED:20251106T232308Z
UID:11028-1762539300-1762544700@mv-binswangen.de
SUMMARY:Martinsumzug (Musikverein Binswangen)
DESCRIPTION:Auftritt – Laternenumzug der Gemeinde Erlenbach – Termin unter Vorbehalt
URL:https://mv-binswangen.de/veranstaltung/martinsumzug-musikverein-binswangen/
LOCATION:Klingenstraße 2\, 74235 Erlenbach\, Deutschland
CATEGORIES:Aktives Orchester
END:VEVENT
BEGIN:VEVENT
DTSTART;TZID=Europe/Berlin:20251101T180000
DTEND;TZID=Europe/Berlin:20251101T200000
DTSTAMP:20260421T143218
CREATED:20251027T145333Z
LAST-MODIFIED:20251031T075030Z
UID:11583-1762020000-1762027200@mv-binswangen.de
SUMMARY:Laternenumzug (Musikverein Binswangen)
DESCRIPTION:Auftritt – Laternenumzug Kindergarten Happenbach –\nTreffpunkt um 17.45 Uhr mit Marschgabel und Licht am Brunnen (mittig der Hauptstraße).
URL:https://mv-binswangen.de/veranstaltung/laternenumzug-musikverein-binswangen/
LOCATION:Happenbach\, 74232 Abstatt\, Baden-Württemberg\, Deutschland
CATEGORIES:Aktives Orchester
END:VEVENT
BEGIN:VEVENT
DTSTART;TZID=Europe/Berlin:20251101T133000
DTEND;TZID=Europe/Berlin:20251101T153000
DTSTAMP:20260421T143218
CREATED:20251007T233533Z
LAST-MODIFIED:20251031T075030Z
UID:11522-1762003800-1762011000@mv-binswangen.de
SUMMARY:Gräberbesuch Allerheiligen Friedhof Binswangen (Musikverein Binswangen)
DESCRIPTION:Auftritt – Musikalische Umrahmung des Gräberbesuchs. Anzugordnung je nach Wetter blaue Uniform mit schwarzer Krawatte oder ganz in schwarz
URL:https://mv-binswangen.de/veranstaltung/graeberbesuch-allerheiligen-friedhof-binswangen-musikverein-binswangen/
LOCATION:Hauptstraße 44/1\, 74235 Erlenbach\, Deutschland
CATEGORIES:Aktives Orchester
END:VEVENT
BEGIN:VEVENT
DTSTART;TZID=Europe/Berlin:20251024T111500
DTEND;TZID=Europe/Berlin:20251024T120000
DTSTAMP:20260421T143218
CREATED:20251022T220533Z
LAST-MODIFIED:20251023T035405Z
UID:11573-1761304500-1761307200@mv-binswangen.de
SUMMARY:Beerdigung Maria Demele (Musikverein Binswangen)
DESCRIPTION:Auftritt – Umrahmung der Trauerfeier auf dem Friedhof in Erlenbach. Treffpunkt spielbereit 11.15 Uhr. Bitte um schnelle Rückmeldung zur Planung der Verpflegung.
URL:https://mv-binswangen.de/veranstaltung/beerdigung-maria-demele-musikverein-binswangen/
LOCATION:Weinstraße 29-35\, 74235 Erlenbach\, Deutschland
CATEGORIES:Aktives Orchester
END:VEVENT
BEGIN:VEVENT
DTSTART;TZID=Europe/Berlin:20251012T103000
DTEND;TZID=Europe/Berlin:20251012T113000
DTSTAMP:20260421T143218
CREATED:20250725T172032Z
LAST-MODIFIED:20251011T210530Z
UID:11400-1760265000-1760268600@mv-binswangen.de
SUMMARY:St\, Vincent Neckarsulm (Mühlwiesen Musikanten)
DESCRIPTION:Auftritt
URL:https://mv-binswangen.de/veranstaltung/st-vincent-neckarsulm-muehlwiesen-musikanten/
CATEGORIES:Mühlwiesen Musikanten
END:VEVENT
BEGIN:VEVENT
DTSTART;TZID=Europe/Berlin:20251011T170000
DTEND;TZID=Europe/Berlin:20251012T020000
DTSTAMP:20260421T143218
CREATED:20250915T220532Z
LAST-MODIFIED:20251011T220533Z
UID:11483-1760202000-1760234400@mv-binswangen.de
SUMMARY:155-Jahr-Feier Familie Bauer (Musikverein Binswangen)
DESCRIPTION:Auftritt – Liebe Musikerkollegen\, ihr habts wahrscheinlich schon im Konzertmeister gesehen. Meine Eltern feiern ein Jubiläum. 155 Jahre (beide jeweils 60 Jahre und 35 Ehe (un)glückliche Ehe 😆. Darum möchten Sie euch gerne zum feiern einladen. Termin ist der 11. Oktober 2025 und gefeiert wird in der alten Kelter in 74182 Eichelberg. Ich weiß ein wenig kurzfristig\, aber meinem Vater hat es die letzten Male leider nicht in die Probe gereicht. Gerne würde ich wieder ein kleines Ständchen auf das inoffizielle Programm packen\, wie auch vor 10 Jahren schon. Weiteres dazu\, wenn ich weiß wer alles da ist. Es würden sich auch ein paar Musikerkollegen aus Eschenau dazu gesellen\, weshalb kein aufwendiges Programm zustande kommt. Meine Eltern freuen sich über jeden der kommt. Eine Zusage im Konzertmeister wäre dafür gut\, dann können wir auch bezüglich Essen und Getränke planen. Viele Grüße Luca 🥳🥳🥳🎺🎺🎺
URL:https://mv-binswangen.de/veranstaltung/155-jahr-feier-familie-bauer-musikverein-binswangen/
LOCATION:Kelterstraße 29\, 74182 Obersulm\, Deutschland
CATEGORIES:Aktives Orchester
END:VEVENT
BEGIN:VEVENT
DTSTART;TZID=Europe/Berlin:20251005T123000
DTEND;TZID=Europe/Berlin:20251005T153000
DTSTAMP:20260421T143218
CREATED:20250707T163533Z
LAST-MODIFIED:20251005T011005Z
UID:11368-1759667400-1759678200@mv-binswangen.de
SUMMARY:Weingut Echle Neipperg (Mühlwiesen Musikanten)
DESCRIPTION:Auftritt
URL:https://mv-binswangen.de/veranstaltung/weingut-echle-neipperg-muehlwiesen-musikanten/
LOCATION:Marsaner Str. 18\, 74336 Brackenheim\, Deutschland
CATEGORIES:Mühlwiesen Musikanten
END:VEVENT
BEGIN:VEVENT
DTSTART;TZID=Europe/Berlin:20250825T190000
DTEND;TZID=Europe/Berlin:20250825T230000
DTSTAMP:20260421T143218
CREATED:20250317T193208Z
LAST-MODIFIED:20250825T200919Z
UID:11025-1756148400-1756162800@mv-binswangen.de
SUMMARY:Erlenbacher Weinfest (Musikverein Binswangen)
DESCRIPTION:Auftritt
URL:https://mv-binswangen.de/veranstaltung/erlenbacher-weinfest-musikverein-binswangen/
LOCATION:Klingenstraße 2\, 74235 Erlenbach\, Deutschland
CATEGORIES:Aktives Orchester
END:VEVENT
BEGIN:VEVENT
DTSTART;TZID=Europe/Berlin:20250824T110000
DTEND;TZID=Europe/Berlin:20250824T133000
DTSTAMP:20260421T143218
CREATED:20250317T193319Z
LAST-MODIFIED:20250823T220535Z
UID:11050-1756033200-1756042200@mv-binswangen.de
SUMMARY:Erlenbacher Weinfest (Mühlwiesen Musikanten)
DESCRIPTION:Auftritt
URL:https://mv-binswangen.de/veranstaltung/erlenbacher-weinfest-muehlwiesen-musikanten/
LOCATION:Klingenstraße 2\, 74235 Erlenbach\, Deutschland
CATEGORIES:Mühlwiesen Musikanten
END:VEVENT
BEGIN:VEVENT
DTSTART;TZID=Europe/Berlin:20250818T150000
DTEND;TZID=Europe/Berlin:20250818T180000
DTSTAMP:20260421T143218
CREATED:20250317T193319Z
LAST-MODIFIED:20250818T052033Z
UID:11049-1755529200-1755540000@mv-binswangen.de
SUMMARY:Weingut Berthold (Mühlwiesen Musikanten)
DESCRIPTION:Auftritt
URL:https://mv-binswangen.de/veranstaltung/weingut-berthold-muehlwiesen-musikanten/
LOCATION:Reutweg 4\, 74172 Neckarsulm\, Deutschland
CATEGORIES:Mühlwiesen Musikanten
END:VEVENT
BEGIN:VEVENT
DTSTART;TZID=Europe/Berlin:20250810T113000
DTEND;TZID=Europe/Berlin:20250810T140000
DTSTAMP:20260421T143218
CREATED:20250317T193208Z
LAST-MODIFIED:20250809T130530Z
UID:11021-1754825400-1754834400@mv-binswangen.de
SUMMARY:Musik- und Weinfest (Musikverein Binswangen)
DESCRIPTION:Auftritt – Umrahmung des Weinfestes des MV Löwenstein.\nTreffpunkt Aufbau 10.30 Uhr – bitte mindestens ein Musiker aus jedem Register. Sonst Treffpunkt um spätestens 11.00 Uhr vor Ort.\nAnzugordnung – Polo\, blaue Jeans + schwarze Schuhe (bei heißen Temperaturen Änderungen Vorbehalten)
URL:https://mv-binswangen.de/veranstaltung/musik-und-weinfest-musikverein-binswangen/
LOCATION:B39\, 74245 Löwenstein\, Deutschland
CATEGORIES:Aktives Orchester
END:VEVENT
BEGIN:VEVENT
DTSTART;TZID=Europe/Berlin:20250706T143000
DTEND;TZID=Europe/Berlin:20250706T170000
DTSTAMP:20260421T143218
CREATED:20250317T193319Z
LAST-MODIFIED:20250705T163532Z
UID:11047-1751812200-1751821200@mv-binswangen.de
SUMMARY:Sommerfest St. Urban (Mühlwiesen Musikanten)
DESCRIPTION:Auftritt – Treffpunkt 14.00 Uhr wir spielen ab 14.30 Uhr
URL:https://mv-binswangen.de/veranstaltung/sommerfest-st-urban-muehlwiesen-musikanten/
LOCATION:Talstraße 19\, 74235 Erlenbach\, Deutschland
CATEGORIES:Mühlwiesen Musikanten
END:VEVENT
BEGIN:VEVENT
DTSTART;TZID=Europe/Berlin:20250629T140000
DTEND;TZID=Europe/Berlin:20250629T160000
DTSTAMP:20260421T143218
CREATED:20250317T193319Z
LAST-MODIFIED:20250629T090533Z
UID:11045-1751205600-1751212800@mv-binswangen.de
SUMMARY:Sommerfest St. Vinzenz Neckarsulm (Mühlwiesen Musikanten)
DESCRIPTION:Auftritt
URL:https://mv-binswangen.de/veranstaltung/sommerfest-st-vinzenz-neckarsulm-muehlwiesen-musikanten/
LOCATION:Spitalstraße 14\, 74172 Neckarsulm\, Deutschland
CATEGORIES:Mühlwiesen Musikanten
END:VEVENT
BEGIN:VEVENT
DTSTART;TZID=Europe/Berlin:20250622T170000
DTEND;TZID=Europe/Berlin:20250622T190000
DTSTAMP:20260421T143218
CREATED:20250317T193319Z
LAST-MODIFIED:20250622T031007Z
UID:11043-1750611600-1750618800@mv-binswangen.de
SUMMARY:Bockbierfest Hagenbach (Mühlwiesen Musikanten)
DESCRIPTION:Auftritt
URL:https://mv-binswangen.de/veranstaltung/bockbierfest-hagenbach-muehlwiesen-musikanten/
LOCATION:Ohrnberger Str. 4\, 74177 Bad Friedrichshall\, Deutschland
CATEGORIES:Mühlwiesen Musikanten
END:VEVENT
BEGIN:VEVENT
DTSTART;TZID=Europe/Berlin:20250529T090000
DTEND;TZID=Europe/Berlin:20250529T103000
DTSTAMP:20260421T143218
CREATED:20250317T193208Z
LAST-MODIFIED:20250528T220532Z
UID:11018-1748509200-1748514600@mv-binswangen.de
SUMMARY:Prozession - Christi Himmelfahrt (Musikverein Binswangen)
DESCRIPTION:Auftritt – Die Prozession wird in Uniform gespielt.\nLaufroute:\nStation 1 – Bildstock Ecke Weinstraße/Schießmauerweg\nStation 2 – Mitte des Staudamms\nStation 3 – Findling\nStation 4 – Ecke Klingenstraße/Drachenlochsteige
URL:https://mv-binswangen.de/veranstaltung/prozession-christi-himmelfahrt-musikverein-binswangen/
CATEGORIES:Aktives Orchester
END:VEVENT
BEGIN:VEVENT
DTSTART;TZID=Europe/Berlin:20250518T140000
DTEND;TZID=Europe/Berlin:20250518T180000
DTSTAMP:20260421T143218
CREATED:20250317T193319Z
LAST-MODIFIED:20250517T200530Z
UID:11041-1747576800-1747591200@mv-binswangen.de
SUMMARY:Seniorennachmittag Erlenbach (Mühlwiesen Musikanten)
DESCRIPTION:Auftritt
URL:https://mv-binswangen.de/veranstaltung/seniorennachmittag-erlenbach-muehlwiesen-musikanten/
LOCATION:Talstraße 21\, 74235 Erlenbach\, Deutschland
CATEGORIES:Mühlwiesen Musikanten
END:VEVENT
BEGIN:VEVENT
DTSTART;TZID=Europe/Berlin:20250430T183000
DTEND;TZID=Europe/Berlin:20250430T200000
DTSTAMP:20260421T143218
CREATED:20250317T193319Z
LAST-MODIFIED:20250430T135029Z
UID:11039-1746037800-1746043200@mv-binswangen.de
SUMMARY:Eberstadt Maibaum aufstellen (Mühlwiesen Musikanten)
DESCRIPTION:Auftritt
URL:https://mv-binswangen.de/veranstaltung/eberstatt-maibaum-aufstellen-muehlwiesen-musikanten/
CATEGORIES:Mühlwiesen Musikanten
END:VEVENT
END:VCALENDAR